BEGIN:VCALENDAR
VERSION:2.0
PRODID:-//Covenant Church - Brentwood - ECPv6.15.20//NONSGML v1.0//EN
CALSCALE:GREGORIAN
METHOD:PUBLISH
X-WR-CALNAME:Covenant Church - Brentwood
X-ORIGINAL-URL:https://thecovbrentwood.org
X-WR-CALDESC:Events for Covenant Church - Brentwood
REFRESH-INTERVAL;VALUE=DURATION:PT1H
X-Robots-Tag:noindex
X-PUBLISHED-TTL:PT1H
BEGIN:VTIMEZONE
TZID:America/Los_Angeles
BEGIN:DAYLIGHT
TZOFFSETFROM:-0800
TZOFFSETTO:-0700
TZNAME:PDT
DTSTART:20250309T100000
END:DAYLIGHT
BEGIN:STANDARD
TZOFFSETFROM:-0700
TZOFFSETTO:-0800
TZNAME:PST
DTSTART:20251102T090000
END:STANDARD
BEGIN:DAYLIGHT
TZOFFSETFROM:-0800
TZOFFSETTO:-0700
TZNAME:PDT
DTSTART:20260308T100000
END:DAYLIGHT
BEGIN:STANDARD
TZOFFSETFROM:-0700
TZOFFSETTO:-0800
TZNAME:PST
DTSTART:20261101T090000
END:STANDARD
BEGIN:DAYLIGHT
TZOFFSETFROM:-0800
TZOFFSETTO:-0700
TZNAME:PDT
DTSTART:20270314T100000
END:DAYLIGHT
BEGIN:STANDARD
TZOFFSETFROM:-0700
TZOFFSETTO:-0800
TZNAME:PST
DTSTART:20271107T090000
END:STANDARD
END:VTIMEZONE
BEGIN:VEVENT
DTSTART;TZID=America/Los_Angeles:20260405T100000
DTEND;TZID=America/Los_Angeles:20260405T113000
DTSTAMP:20260425T080940
CREATED:20260113T175309Z
LAST-MODIFIED:20260113T175309Z
UID:10006463-1775383200-1775388600@thecovbrentwood.org
SUMMARY:Sunday Worship Service
DESCRIPTION:Need to hear a word from the Lord? Looking for an authentic worship experience? Seeking more opportunities to fellowship with others who want a deeper relationship with Jesus? This is where you’ll find it. Join us for church in-person at 10am or online at 12:30am. Each service is guaranteed to leave you saying\, “I got just what I wanted.”
URL:https://thecovbrentwood.org/event/sunday-worship-service-35/2026-04-05/
LOCATION:Covenant Church – Brentwood Campus\, 6830 Lone Tree Way\, Brentwood\, CA\, 94513\, United States
ATTACH;FMTTYPE=image/jpeg:https://thecovbrentwood.org/wp-content/uploads/2026/01/Covenant-Church-Events-2.jpg
END:VEVENT
BEGIN:VEVENT
DTSTART;TZID=America/Los_Angeles:20260405T123000
DTEND;TZID=America/Los_Angeles:20260405T140000
DTSTAMP:20260425T080940
CREATED:20260310T195202Z
LAST-MODIFIED:20260310T195202Z
UID:10007128-1775392200-1775397600@thecovbrentwood.org
SUMMARY:GriefShare
DESCRIPTION:Are you grieving? You are not alone. Come receive support and encouragement for your healing journey with our GriefShare support group. Through this 11-week group\, you’ll discover what to expect in the days ahead and what’s “normal” in grief. Since there are no neat\, orderly stages of grief\, you’ll learn helpful ways of coping with grief\, in all its unpredictability—and gain solid support each step of the way.
URL:https://thecovbrentwood.org/event/griefshare-2/2026-04-05/
LOCATION:Covenant Church – Brentwood Campus\, 6830 Lone Tree Way\, Brentwood\, CA\, 94513\, United States
ATTACH;FMTTYPE=image/png:https://thecovbrentwood.org/wp-content/uploads/2025/06/GriefShare-event.png
END:VEVENT
END:VCALENDAR