BEGIN:VCALENDAR
VERSION:2.0
PRODID:-//Covenant Church - Brentwood - ECPv6.15.20//NONSGML v1.0//EN
CALSCALE:GREGORIAN
METHOD:PUBLISH
X-ORIGINAL-URL:https://thecovbrentwood.org
X-WR-CALDESC:Events for Covenant Church - Brentwood
REFRESH-INTERVAL;VALUE=DURATION:PT1H
X-Robots-Tag:noindex
X-PUBLISHED-TTL:PT1H
BEGIN:VTIMEZONE
TZID:America/Los_Angeles
BEGIN:DAYLIGHT
TZOFFSETFROM:-0800
TZOFFSETTO:-0700
TZNAME:PDT
DTSTART:20250309T100000
END:DAYLIGHT
BEGIN:STANDARD
TZOFFSETFROM:-0700
TZOFFSETTO:-0800
TZNAME:PST
DTSTART:20251102T090000
END:STANDARD
BEGIN:DAYLIGHT
TZOFFSETFROM:-0800
TZOFFSETTO:-0700
TZNAME:PDT
DTSTART:20260308T100000
END:DAYLIGHT
BEGIN:STANDARD
TZOFFSETFROM:-0700
TZOFFSETTO:-0800
TZNAME:PST
DTSTART:20261101T090000
END:STANDARD
BEGIN:DAYLIGHT
TZOFFSETFROM:-0800
TZOFFSETTO:-0700
TZNAME:PDT
DTSTART:20270314T100000
END:DAYLIGHT
BEGIN:STANDARD
TZOFFSETFROM:-0700
TZOFFSETTO:-0800
TZNAME:PST
DTSTART:20271107T090000
END:STANDARD
END:VTIMEZONE
BEGIN:VEVENT
DTSTART;TZID=America/Los_Angeles:20260602T053000
DTEND;TZID=America/Los_Angeles:20260602T063000
DTSTAMP:20260424T094059
CREATED:20260113T175910Z
LAST-MODIFIED:20260113T175910Z
UID:10006653-1780378200-1780381800@thecovbrentwood.org
SUMMARY:Covenant Church Intercessory Prayer Call
DESCRIPTION:Get refreshed\, renewed and revived from whatever you’re going through in life at “The Well\,” our daily prayer call with the Intercessory Prayer Ministry. Held on weekdays at 5:30am and 9pm\, Monday through Friday\, and Saturdays at 6am. \nJoin by calling in to (562) 766-7703.
URL:https://thecovbrentwood.org/event/covenant-church-intercessory-prayer-call-10/2026-06-02/
LOCATION:CA
ATTACH;FMTTYPE=image/jpeg:https://thecovbrentwood.org/wp-content/uploads/2024/01/prayer-call-the-well-event2.jpg
END:VEVENT
BEGIN:VEVENT
DTSTART;TZID=America/Los_Angeles:20260602T190000
DTEND;TZID=America/Los_Angeles:20260602T203000
DTSTAMP:20260424T094059
CREATED:20260113T175628Z
LAST-MODIFIED:20260113T175628Z
UID:10006522-1780426800-1780432200@thecovbrentwood.org
SUMMARY:The Quest Bible Study
DESCRIPTION:Join Bishop Woods on the Quest on Facebook Live as he expands on his sermons and teaches us how to go deeper in the Word. Tune in and invite a friend!
URL:https://thecovbrentwood.org/event/the-quest-bible-study-5/2026-06-02/
LOCATION:CA
ATTACH;FMTTYPE=image/jpeg:https://thecovbrentwood.org/wp-content/uploads/2020/07/The-Quest-Bible-Study-event.jpg
END:VEVENT
BEGIN:VEVENT
DTSTART;TZID=America/Los_Angeles:20260602T210000
DTEND;TZID=America/Los_Angeles:20260602T220000
DTSTAMP:20260424T094059
CREATED:20260113T180130Z
LAST-MODIFIED:20260113T180130Z
UID:10006901-1780434000-1780437600@thecovbrentwood.org
SUMMARY:Covenant Church Intercessory Prayer Call
DESCRIPTION:Get refreshed\, renewed and revived from whatever you’re going through in life at “The Well\,” our daily prayer call with the Intercessory Prayer Ministry. Held on weekdays at 5:30am and 9pm\, Monday through Friday\, and Saturdays at 6am. \nJoin by calling in to (562) 766-7703.
URL:https://thecovbrentwood.org/event/covenant-church-intercessory-prayer-call-11/2026-06-02/
LOCATION:CA
ATTACH;FMTTYPE=image/jpeg:https://thecovbrentwood.org/wp-content/uploads/2024/01/prayer-call-the-well-event2.jpg
END:VEVENT
BEGIN:VEVENT
DTSTART;TZID=America/Los_Angeles:20260603T053000
DTEND;TZID=America/Los_Angeles:20260603T063000
DTSTAMP:20260424T094059
CREATED:20260113T175910Z
LAST-MODIFIED:20260113T175910Z
UID:10006654-1780464600-1780468200@thecovbrentwood.org
SUMMARY:Covenant Church Intercessory Prayer Call
DESCRIPTION:Get refreshed\, renewed and revived from whatever you’re going through in life at “The Well\,” our daily prayer call with the Intercessory Prayer Ministry. Held on weekdays at 5:30am and 9pm\, Monday through Friday\, and Saturdays at 6am. \nJoin by calling in to (562) 766-7703.
URL:https://thecovbrentwood.org/event/covenant-church-intercessory-prayer-call-10/2026-06-03/
LOCATION:CA
ATTACH;FMTTYPE=image/jpeg:https://thecovbrentwood.org/wp-content/uploads/2024/01/prayer-call-the-well-event2.jpg
END:VEVENT
BEGIN:VEVENT
DTSTART;TZID=America/Los_Angeles:20260603T210000
DTEND;TZID=America/Los_Angeles:20260603T220000
DTSTAMP:20260424T094059
CREATED:20260113T180130Z
LAST-MODIFIED:20260113T180130Z
UID:10006902-1780520400-1780524000@thecovbrentwood.org
SUMMARY:Covenant Church Intercessory Prayer Call
DESCRIPTION:Get refreshed\, renewed and revived from whatever you’re going through in life at “The Well\,” our daily prayer call with the Intercessory Prayer Ministry. Held on weekdays at 5:30am and 9pm\, Monday through Friday\, and Saturdays at 6am. \nJoin by calling in to (562) 766-7703.
URL:https://thecovbrentwood.org/event/covenant-church-intercessory-prayer-call-11/2026-06-03/
LOCATION:CA
ATTACH;FMTTYPE=image/jpeg:https://thecovbrentwood.org/wp-content/uploads/2024/01/prayer-call-the-well-event2.jpg
END:VEVENT
BEGIN:VEVENT
DTSTART;TZID=America/Los_Angeles:20260604T053000
DTEND;TZID=America/Los_Angeles:20260604T063000
DTSTAMP:20260424T094059
CREATED:20260113T175910Z
LAST-MODIFIED:20260113T175910Z
UID:10006655-1780551000-1780554600@thecovbrentwood.org
SUMMARY:Covenant Church Intercessory Prayer Call
DESCRIPTION:Get refreshed\, renewed and revived from whatever you’re going through in life at “The Well\,” our daily prayer call with the Intercessory Prayer Ministry. Held on weekdays at 5:30am and 9pm\, Monday through Friday\, and Saturdays at 6am. \nJoin by calling in to (562) 766-7703.
URL:https://thecovbrentwood.org/event/covenant-church-intercessory-prayer-call-10/2026-06-04/
LOCATION:CA
ATTACH;FMTTYPE=image/jpeg:https://thecovbrentwood.org/wp-content/uploads/2024/01/prayer-call-the-well-event2.jpg
END:VEVENT
BEGIN:VEVENT
DTSTART;TZID=America/Los_Angeles:20260604T210000
DTEND;TZID=America/Los_Angeles:20260604T220000
DTSTAMP:20260424T094059
CREATED:20260113T180130Z
LAST-MODIFIED:20260113T180130Z
UID:10006903-1780606800-1780610400@thecovbrentwood.org
SUMMARY:Covenant Church Intercessory Prayer Call
DESCRIPTION:Get refreshed\, renewed and revived from whatever you’re going through in life at “The Well\,” our daily prayer call with the Intercessory Prayer Ministry. Held on weekdays at 5:30am and 9pm\, Monday through Friday\, and Saturdays at 6am. \nJoin by calling in to (562) 766-7703.
URL:https://thecovbrentwood.org/event/covenant-church-intercessory-prayer-call-11/2026-06-04/
LOCATION:CA
ATTACH;FMTTYPE=image/jpeg:https://thecovbrentwood.org/wp-content/uploads/2024/01/prayer-call-the-well-event2.jpg
END:VEVENT
BEGIN:VEVENT
DTSTART;TZID=America/Los_Angeles:20260605T053000
DTEND;TZID=America/Los_Angeles:20260605T063000
DTSTAMP:20260424T094059
CREATED:20260113T175910Z
LAST-MODIFIED:20260113T175910Z
UID:10006656-1780637400-1780641000@thecovbrentwood.org
SUMMARY:Covenant Church Intercessory Prayer Call
DESCRIPTION:Get refreshed\, renewed and revived from whatever you’re going through in life at “The Well\,” our daily prayer call with the Intercessory Prayer Ministry. Held on weekdays at 5:30am and 9pm\, Monday through Friday\, and Saturdays at 6am. \nJoin by calling in to (562) 766-7703.
URL:https://thecovbrentwood.org/event/covenant-church-intercessory-prayer-call-10/2026-06-05/
LOCATION:CA
ATTACH;FMTTYPE=image/jpeg:https://thecovbrentwood.org/wp-content/uploads/2024/01/prayer-call-the-well-event2.jpg
END:VEVENT
BEGIN:VEVENT
DTSTART;TZID=America/Los_Angeles:20260605T210000
DTEND;TZID=America/Los_Angeles:20260605T220000
DTSTAMP:20260424T094059
CREATED:20260113T180130Z
LAST-MODIFIED:20260113T180130Z
UID:10006904-1780693200-1780696800@thecovbrentwood.org
SUMMARY:Covenant Church Intercessory Prayer Call
DESCRIPTION:Get refreshed\, renewed and revived from whatever you’re going through in life at “The Well\,” our daily prayer call with the Intercessory Prayer Ministry. Held on weekdays at 5:30am and 9pm\, Monday through Friday\, and Saturdays at 6am. \nJoin by calling in to (562) 766-7703.
URL:https://thecovbrentwood.org/event/covenant-church-intercessory-prayer-call-11/2026-06-05/
LOCATION:CA
ATTACH;FMTTYPE=image/jpeg:https://thecovbrentwood.org/wp-content/uploads/2024/01/prayer-call-the-well-event2.jpg
END:VEVENT
BEGIN:VEVENT
DTSTART;TZID=America/Los_Angeles:20260606T060000
DTEND;TZID=America/Los_Angeles:20260606T070000
DTSTAMP:20260424T094059
CREATED:20260113T180312Z
LAST-MODIFIED:20260113T180312Z
UID:10007069-1780725600-1780729200@thecovbrentwood.org
SUMMARY:Covenant Church Intercessory Prayer Call
DESCRIPTION:Get refreshed\, renewed and revived from whatever you’re going through in life at “The Well\,” our daily prayer call with the Intercessory Prayer Ministry. Held on weekdays at 5:30am and 9pm\, Monday through Friday\, and Saturdays at 6am. \nJoin by calling in to (562) 766-7703.
URL:https://thecovbrentwood.org/event/covenant-church-intercessory-prayer-call-12/2026-06-06/
LOCATION:CA
ATTACH;FMTTYPE=image/jpeg:https://thecovbrentwood.org/wp-content/uploads/2024/01/prayer-call-the-well-event2.jpg
END:VEVENT
BEGIN:VEVENT
DTSTART;TZID=America/Los_Angeles:20260607T100000
DTEND;TZID=America/Los_Angeles:20260607T113000
DTSTAMP:20260424T094059
CREATED:20260113T175309Z
LAST-MODIFIED:20260113T175309Z
UID:10006472-1780826400-1780831800@thecovbrentwood.org
SUMMARY:Sunday Worship Service
DESCRIPTION:Need to hear a word from the Lord? Looking for an authentic worship experience? Seeking more opportunities to fellowship with others who want a deeper relationship with Jesus? This is where you’ll find it. Join us for church in-person at 10am or online at 12:30am. Each service is guaranteed to leave you saying\, “I got just what I wanted.”
URL:https://thecovbrentwood.org/event/sunday-worship-service-35/2026-06-07/
LOCATION:Covenant Church – Brentwood Campus\, 6830 Lone Tree Way\, Brentwood\, CA\, 94513\, United States
ATTACH;FMTTYPE=image/jpeg:https://thecovbrentwood.org/wp-content/uploads/2026/01/Covenant-Church-Events-2.jpg
END:VEVENT
BEGIN:VEVENT
DTSTART;TZID=America/Los_Angeles:20260608T053000
DTEND;TZID=America/Los_Angeles:20260608T063000
DTSTAMP:20260424T094059
CREATED:20260113T175910Z
LAST-MODIFIED:20260113T175910Z
UID:10006657-1780896600-1780900200@thecovbrentwood.org
SUMMARY:Covenant Church Intercessory Prayer Call
DESCRIPTION:Get refreshed\, renewed and revived from whatever you’re going through in life at “The Well\,” our daily prayer call with the Intercessory Prayer Ministry. Held on weekdays at 5:30am and 9pm\, Monday through Friday\, and Saturdays at 6am. \nJoin by calling in to (562) 766-7703.
URL:https://thecovbrentwood.org/event/covenant-church-intercessory-prayer-call-10/2026-06-08/
LOCATION:CA
ATTACH;FMTTYPE=image/jpeg:https://thecovbrentwood.org/wp-content/uploads/2024/01/prayer-call-the-well-event2.jpg
END:VEVENT
BEGIN:VEVENT
DTSTART;TZID=America/Los_Angeles:20260608T210000
DTEND;TZID=America/Los_Angeles:20260608T220000
DTSTAMP:20260424T094059
CREATED:20260113T180130Z
LAST-MODIFIED:20260113T180130Z
UID:10006905-1780952400-1780956000@thecovbrentwood.org
SUMMARY:Covenant Church Intercessory Prayer Call
DESCRIPTION:Get refreshed\, renewed and revived from whatever you’re going through in life at “The Well\,” our daily prayer call with the Intercessory Prayer Ministry. Held on weekdays at 5:30am and 9pm\, Monday through Friday\, and Saturdays at 6am. \nJoin by calling in to (562) 766-7703.
URL:https://thecovbrentwood.org/event/covenant-church-intercessory-prayer-call-11/2026-06-08/
LOCATION:CA
ATTACH;FMTTYPE=image/jpeg:https://thecovbrentwood.org/wp-content/uploads/2024/01/prayer-call-the-well-event2.jpg
END:VEVENT
BEGIN:VEVENT
DTSTART;TZID=America/Los_Angeles:20260609T053000
DTEND;TZID=America/Los_Angeles:20260609T063000
DTSTAMP:20260424T094059
CREATED:20260113T175910Z
LAST-MODIFIED:20260113T175910Z
UID:10006658-1780983000-1780986600@thecovbrentwood.org
SUMMARY:Covenant Church Intercessory Prayer Call
DESCRIPTION:Get refreshed\, renewed and revived from whatever you’re going through in life at “The Well\,” our daily prayer call with the Intercessory Prayer Ministry. Held on weekdays at 5:30am and 9pm\, Monday through Friday\, and Saturdays at 6am. \nJoin by calling in to (562) 766-7703.
URL:https://thecovbrentwood.org/event/covenant-church-intercessory-prayer-call-10/2026-06-09/
LOCATION:CA
ATTACH;FMTTYPE=image/jpeg:https://thecovbrentwood.org/wp-content/uploads/2024/01/prayer-call-the-well-event2.jpg
END:VEVENT
BEGIN:VEVENT
DTSTART;TZID=America/Los_Angeles:20260609T190000
DTEND;TZID=America/Los_Angeles:20260609T203000
DTSTAMP:20260424T094059
CREATED:20260113T175628Z
LAST-MODIFIED:20260113T175628Z
UID:10006523-1781031600-1781037000@thecovbrentwood.org
SUMMARY:The Quest Bible Study
DESCRIPTION:Join Bishop Woods on the Quest on Facebook Live as he expands on his sermons and teaches us how to go deeper in the Word. Tune in and invite a friend!
URL:https://thecovbrentwood.org/event/the-quest-bible-study-5/2026-06-09/
LOCATION:CA
ATTACH;FMTTYPE=image/jpeg:https://thecovbrentwood.org/wp-content/uploads/2020/07/The-Quest-Bible-Study-event.jpg
END:VEVENT
BEGIN:VEVENT
DTSTART;TZID=America/Los_Angeles:20260609T190000
DTEND;TZID=America/Los_Angeles:20260609T203000
DTSTAMP:20260424T094059
CREATED:20260225T032706Z
LAST-MODIFIED:20260225T032706Z
UID:10007106-1781031600-1781037000@thecovbrentwood.org
SUMMARY:Digital Underground: Youth Bible Study
DESCRIPTION:Royals: Join us for “Digital Underground\,” our biweekly youth Bible study! Held via Zoom\, every other week\, this gathering is specifically designed for young people aged 12-17 who are eager to explore the depths of their faith in the digital age. \nThis is an exciting opportunity to engage in thought-provoking discussions\, interactive activities and inspiring teachings led by our youth pastor\, all from the comfort of your own home. Together\, we’ll explore how biblical principles can be applied to everyday situations\, online interactions\, social media challenges and more.
URL:https://thecovbrentwood.org/event/digital-underground-youth-bible-study-4/2026-06-09/
LOCATION:CA
ATTACH;FMTTYPE=image/jpeg:https://thecovbrentwood.org/wp-content/uploads/2020/07/Digital-Underground-event.jpg
END:VEVENT
BEGIN:VEVENT
DTSTART;TZID=America/Los_Angeles:20260609T210000
DTEND;TZID=America/Los_Angeles:20260609T220000
DTSTAMP:20260424T094059
CREATED:20260113T180130Z
LAST-MODIFIED:20260113T180130Z
UID:10006906-1781038800-1781042400@thecovbrentwood.org
SUMMARY:Covenant Church Intercessory Prayer Call
DESCRIPTION:Get refreshed\, renewed and revived from whatever you’re going through in life at “The Well\,” our daily prayer call with the Intercessory Prayer Ministry. Held on weekdays at 5:30am and 9pm\, Monday through Friday\, and Saturdays at 6am. \nJoin by calling in to (562) 766-7703.
URL:https://thecovbrentwood.org/event/covenant-church-intercessory-prayer-call-11/2026-06-09/
LOCATION:CA
ATTACH;FMTTYPE=image/jpeg:https://thecovbrentwood.org/wp-content/uploads/2024/01/prayer-call-the-well-event2.jpg
END:VEVENT
BEGIN:VEVENT
DTSTART;TZID=America/Los_Angeles:20260610T053000
DTEND;TZID=America/Los_Angeles:20260610T063000
DTSTAMP:20260424T094059
CREATED:20260113T175910Z
LAST-MODIFIED:20260113T175910Z
UID:10006659-1781069400-1781073000@thecovbrentwood.org
SUMMARY:Covenant Church Intercessory Prayer Call
DESCRIPTION:Get refreshed\, renewed and revived from whatever you’re going through in life at “The Well\,” our daily prayer call with the Intercessory Prayer Ministry. Held on weekdays at 5:30am and 9pm\, Monday through Friday\, and Saturdays at 6am. \nJoin by calling in to (562) 766-7703.
URL:https://thecovbrentwood.org/event/covenant-church-intercessory-prayer-call-10/2026-06-10/
LOCATION:CA
ATTACH;FMTTYPE=image/jpeg:https://thecovbrentwood.org/wp-content/uploads/2024/01/prayer-call-the-well-event2.jpg
END:VEVENT
BEGIN:VEVENT
DTSTART;TZID=America/Los_Angeles:20260610T210000
DTEND;TZID=America/Los_Angeles:20260610T220000
DTSTAMP:20260424T094059
CREATED:20260113T180130Z
LAST-MODIFIED:20260113T180130Z
UID:10006907-1781125200-1781128800@thecovbrentwood.org
SUMMARY:Covenant Church Intercessory Prayer Call
DESCRIPTION:Get refreshed\, renewed and revived from whatever you’re going through in life at “The Well\,” our daily prayer call with the Intercessory Prayer Ministry. Held on weekdays at 5:30am and 9pm\, Monday through Friday\, and Saturdays at 6am. \nJoin by calling in to (562) 766-7703.
URL:https://thecovbrentwood.org/event/covenant-church-intercessory-prayer-call-11/2026-06-10/
LOCATION:CA
ATTACH;FMTTYPE=image/jpeg:https://thecovbrentwood.org/wp-content/uploads/2024/01/prayer-call-the-well-event2.jpg
END:VEVENT
BEGIN:VEVENT
DTSTART;TZID=America/Los_Angeles:20260611T053000
DTEND;TZID=America/Los_Angeles:20260611T063000
DTSTAMP:20260424T094059
CREATED:20260113T175910Z
LAST-MODIFIED:20260113T175910Z
UID:10006660-1781155800-1781159400@thecovbrentwood.org
SUMMARY:Covenant Church Intercessory Prayer Call
DESCRIPTION:Get refreshed\, renewed and revived from whatever you’re going through in life at “The Well\,” our daily prayer call with the Intercessory Prayer Ministry. Held on weekdays at 5:30am and 9pm\, Monday through Friday\, and Saturdays at 6am. \nJoin by calling in to (562) 766-7703.
URL:https://thecovbrentwood.org/event/covenant-church-intercessory-prayer-call-10/2026-06-11/
LOCATION:CA
ATTACH;FMTTYPE=image/jpeg:https://thecovbrentwood.org/wp-content/uploads/2024/01/prayer-call-the-well-event2.jpg
END:VEVENT
BEGIN:VEVENT
DTSTART;TZID=America/Los_Angeles:20260611T210000
DTEND;TZID=America/Los_Angeles:20260611T220000
DTSTAMP:20260424T094059
CREATED:20260113T180130Z
LAST-MODIFIED:20260113T180130Z
UID:10006908-1781211600-1781215200@thecovbrentwood.org
SUMMARY:Covenant Church Intercessory Prayer Call
DESCRIPTION:Get refreshed\, renewed and revived from whatever you’re going through in life at “The Well\,” our daily prayer call with the Intercessory Prayer Ministry. Held on weekdays at 5:30am and 9pm\, Monday through Friday\, and Saturdays at 6am. \nJoin by calling in to (562) 766-7703.
URL:https://thecovbrentwood.org/event/covenant-church-intercessory-prayer-call-11/2026-06-11/
LOCATION:CA
ATTACH;FMTTYPE=image/jpeg:https://thecovbrentwood.org/wp-content/uploads/2024/01/prayer-call-the-well-event2.jpg
END:VEVENT
BEGIN:VEVENT
DTSTART;TZID=America/Los_Angeles:20260612T053000
DTEND;TZID=America/Los_Angeles:20260612T063000
DTSTAMP:20260424T094059
CREATED:20260113T175910Z
LAST-MODIFIED:20260113T175910Z
UID:10006661-1781242200-1781245800@thecovbrentwood.org
SUMMARY:Covenant Church Intercessory Prayer Call
DESCRIPTION:Get refreshed\, renewed and revived from whatever you’re going through in life at “The Well\,” our daily prayer call with the Intercessory Prayer Ministry. Held on weekdays at 5:30am and 9pm\, Monday through Friday\, and Saturdays at 6am. \nJoin by calling in to (562) 766-7703.
URL:https://thecovbrentwood.org/event/covenant-church-intercessory-prayer-call-10/2026-06-12/
LOCATION:CA
ATTACH;FMTTYPE=image/jpeg:https://thecovbrentwood.org/wp-content/uploads/2024/01/prayer-call-the-well-event2.jpg
END:VEVENT
BEGIN:VEVENT
DTSTART;TZID=America/Los_Angeles:20260612T210000
DTEND;TZID=America/Los_Angeles:20260612T220000
DTSTAMP:20260424T094059
CREATED:20260113T180130Z
LAST-MODIFIED:20260113T180130Z
UID:10006909-1781298000-1781301600@thecovbrentwood.org
SUMMARY:Covenant Church Intercessory Prayer Call
DESCRIPTION:Get refreshed\, renewed and revived from whatever you’re going through in life at “The Well\,” our daily prayer call with the Intercessory Prayer Ministry. Held on weekdays at 5:30am and 9pm\, Monday through Friday\, and Saturdays at 6am. \nJoin by calling in to (562) 766-7703.
URL:https://thecovbrentwood.org/event/covenant-church-intercessory-prayer-call-11/2026-06-12/
LOCATION:CA
ATTACH;FMTTYPE=image/jpeg:https://thecovbrentwood.org/wp-content/uploads/2024/01/prayer-call-the-well-event2.jpg
END:VEVENT
BEGIN:VEVENT
DTSTART;TZID=America/Los_Angeles:20260613T060000
DTEND;TZID=America/Los_Angeles:20260613T070000
DTSTAMP:20260424T094059
CREATED:20260113T180312Z
LAST-MODIFIED:20260113T180312Z
UID:10007070-1781330400-1781334000@thecovbrentwood.org
SUMMARY:Covenant Church Intercessory Prayer Call
DESCRIPTION:Get refreshed\, renewed and revived from whatever you’re going through in life at “The Well\,” our daily prayer call with the Intercessory Prayer Ministry. Held on weekdays at 5:30am and 9pm\, Monday through Friday\, and Saturdays at 6am. \nJoin by calling in to (562) 766-7703.
URL:https://thecovbrentwood.org/event/covenant-church-intercessory-prayer-call-12/2026-06-13/
LOCATION:CA
ATTACH;FMTTYPE=image/jpeg:https://thecovbrentwood.org/wp-content/uploads/2024/01/prayer-call-the-well-event2.jpg
END:VEVENT
BEGIN:VEVENT
DTSTART;TZID=America/Los_Angeles:20260614T100000
DTEND;TZID=America/Los_Angeles:20260614T113000
DTSTAMP:20260424T094059
CREATED:20260113T175309Z
LAST-MODIFIED:20260113T175309Z
UID:10006473-1781431200-1781436600@thecovbrentwood.org
SUMMARY:Sunday Worship Service
DESCRIPTION:Need to hear a word from the Lord? Looking for an authentic worship experience? Seeking more opportunities to fellowship with others who want a deeper relationship with Jesus? This is where you’ll find it. Join us for church in-person at 10am or online at 12:30am. Each service is guaranteed to leave you saying\, “I got just what I wanted.”
URL:https://thecovbrentwood.org/event/sunday-worship-service-35/2026-06-14/
LOCATION:Covenant Church – Brentwood Campus\, 6830 Lone Tree Way\, Brentwood\, CA\, 94513\, United States
ATTACH;FMTTYPE=image/jpeg:https://thecovbrentwood.org/wp-content/uploads/2026/01/Covenant-Church-Events-2.jpg
END:VEVENT
BEGIN:VEVENT
DTSTART;TZID=America/Los_Angeles:20260615T053000
DTEND;TZID=America/Los_Angeles:20260615T063000
DTSTAMP:20260424T094059
CREATED:20260113T175910Z
LAST-MODIFIED:20260113T175910Z
UID:10006662-1781501400-1781505000@thecovbrentwood.org
SUMMARY:Covenant Church Intercessory Prayer Call
DESCRIPTION:Get refreshed\, renewed and revived from whatever you’re going through in life at “The Well\,” our daily prayer call with the Intercessory Prayer Ministry. Held on weekdays at 5:30am and 9pm\, Monday through Friday\, and Saturdays at 6am. \nJoin by calling in to (562) 766-7703.
URL:https://thecovbrentwood.org/event/covenant-church-intercessory-prayer-call-10/2026-06-15/
LOCATION:CA
ATTACH;FMTTYPE=image/jpeg:https://thecovbrentwood.org/wp-content/uploads/2024/01/prayer-call-the-well-event2.jpg
END:VEVENT
BEGIN:VEVENT
DTSTART;TZID=America/Los_Angeles:20260615T210000
DTEND;TZID=America/Los_Angeles:20260615T220000
DTSTAMP:20260424T094059
CREATED:20260113T180130Z
LAST-MODIFIED:20260113T180130Z
UID:10006910-1781557200-1781560800@thecovbrentwood.org
SUMMARY:Covenant Church Intercessory Prayer Call
DESCRIPTION:Get refreshed\, renewed and revived from whatever you’re going through in life at “The Well\,” our daily prayer call with the Intercessory Prayer Ministry. Held on weekdays at 5:30am and 9pm\, Monday through Friday\, and Saturdays at 6am. \nJoin by calling in to (562) 766-7703.
URL:https://thecovbrentwood.org/event/covenant-church-intercessory-prayer-call-11/2026-06-15/
LOCATION:CA
ATTACH;FMTTYPE=image/jpeg:https://thecovbrentwood.org/wp-content/uploads/2024/01/prayer-call-the-well-event2.jpg
END:VEVENT
BEGIN:VEVENT
DTSTART;TZID=America/Los_Angeles:20260616T053000
DTEND;TZID=America/Los_Angeles:20260616T063000
DTSTAMP:20260424T094059
CREATED:20260113T175910Z
LAST-MODIFIED:20260113T175910Z
UID:10006663-1781587800-1781591400@thecovbrentwood.org
SUMMARY:Covenant Church Intercessory Prayer Call
DESCRIPTION:Get refreshed\, renewed and revived from whatever you’re going through in life at “The Well\,” our daily prayer call with the Intercessory Prayer Ministry. Held on weekdays at 5:30am and 9pm\, Monday through Friday\, and Saturdays at 6am. \nJoin by calling in to (562) 766-7703.
URL:https://thecovbrentwood.org/event/covenant-church-intercessory-prayer-call-10/2026-06-16/
LOCATION:CA
ATTACH;FMTTYPE=image/jpeg:https://thecovbrentwood.org/wp-content/uploads/2024/01/prayer-call-the-well-event2.jpg
END:VEVENT
BEGIN:VEVENT
DTSTART;TZID=America/Los_Angeles:20260616T190000
DTEND;TZID=America/Los_Angeles:20260616T203000
DTSTAMP:20260424T094059
CREATED:20260113T175628Z
LAST-MODIFIED:20260113T175628Z
UID:10006524-1781636400-1781641800@thecovbrentwood.org
SUMMARY:The Quest Bible Study
DESCRIPTION:Join Bishop Woods on the Quest on Facebook Live as he expands on his sermons and teaches us how to go deeper in the Word. Tune in and invite a friend!
URL:https://thecovbrentwood.org/event/the-quest-bible-study-5/2026-06-16/
LOCATION:CA
ATTACH;FMTTYPE=image/jpeg:https://thecovbrentwood.org/wp-content/uploads/2020/07/The-Quest-Bible-Study-event.jpg
END:VEVENT
BEGIN:VEVENT
DTSTART;TZID=America/Los_Angeles:20260616T210000
DTEND;TZID=America/Los_Angeles:20260616T220000
DTSTAMP:20260424T094059
CREATED:20260113T180130Z
LAST-MODIFIED:20260113T180130Z
UID:10006911-1781643600-1781647200@thecovbrentwood.org
SUMMARY:Covenant Church Intercessory Prayer Call
DESCRIPTION:Get refreshed\, renewed and revived from whatever you’re going through in life at “The Well\,” our daily prayer call with the Intercessory Prayer Ministry. Held on weekdays at 5:30am and 9pm\, Monday through Friday\, and Saturdays at 6am. \nJoin by calling in to (562) 766-7703.
URL:https://thecovbrentwood.org/event/covenant-church-intercessory-prayer-call-11/2026-06-16/
LOCATION:CA
ATTACH;FMTTYPE=image/jpeg:https://thecovbrentwood.org/wp-content/uploads/2024/01/prayer-call-the-well-event2.jpg
END:VEVENT
END:VCALENDAR