BEGIN:VCALENDAR
VERSION:2.0
PRODID:-//Covenant Church - Brentwood - ECPv6.15.20//NONSGML v1.0//EN
CALSCALE:GREGORIAN
METHOD:PUBLISH
X-WR-CALNAME:Covenant Church - Brentwood
X-ORIGINAL-URL:https://thecovbrentwood.org
X-WR-CALDESC:Events for Covenant Church - Brentwood
REFRESH-INTERVAL;VALUE=DURATION:PT1H
X-Robots-Tag:noindex
X-PUBLISHED-TTL:PT1H
BEGIN:VTIMEZONE
TZID:America/Los_Angeles
BEGIN:DAYLIGHT
TZOFFSETFROM:-0800
TZOFFSETTO:-0700
TZNAME:PDT
DTSTART:20250309T100000
END:DAYLIGHT
BEGIN:STANDARD
TZOFFSETFROM:-0700
TZOFFSETTO:-0800
TZNAME:PST
DTSTART:20251102T090000
END:STANDARD
BEGIN:DAYLIGHT
TZOFFSETFROM:-0800
TZOFFSETTO:-0700
TZNAME:PDT
DTSTART:20260308T100000
END:DAYLIGHT
BEGIN:STANDARD
TZOFFSETFROM:-0700
TZOFFSETTO:-0800
TZNAME:PST
DTSTART:20261101T090000
END:STANDARD
BEGIN:DAYLIGHT
TZOFFSETFROM:-0800
TZOFFSETTO:-0700
TZNAME:PDT
DTSTART:20270314T100000
END:DAYLIGHT
BEGIN:STANDARD
TZOFFSETFROM:-0700
TZOFFSETTO:-0800
TZNAME:PST
DTSTART:20271107T090000
END:STANDARD
END:VTIMEZONE
BEGIN:VEVENT
DTSTART;TZID=America/Los_Angeles:20260412T100000
DTEND;TZID=America/Los_Angeles:20260412T113000
DTSTAMP:20260422T092015
CREATED:20260113T175309Z
LAST-MODIFIED:20260113T175309Z
UID:10006464-1775988000-1775993400@thecovbrentwood.org
SUMMARY:Sunday Worship Service
DESCRIPTION:Need to hear a word from the Lord? Looking for an authentic worship experience? Seeking more opportunities to fellowship with others who want a deeper relationship with Jesus? This is where you’ll find it. Join us for church in-person at 10am or online at 12:30am. Each service is guaranteed to leave you saying\, “I got just what I wanted.”
URL:https://thecovbrentwood.org/event/sunday-worship-service-35/2026-04-12/
LOCATION:Covenant Church – Brentwood Campus\, 6830 Lone Tree Way\, Brentwood\, CA\, 94513\, United States
ATTACH;FMTTYPE=image/jpeg:https://thecovbrentwood.org/wp-content/uploads/2026/01/Covenant-Church-Events-2.jpg
END:VEVENT
BEGIN:VEVENT
DTSTART;TZID=America/Los_Angeles:20260411T060000
DTEND;TZID=America/Los_Angeles:20260411T070000
DTSTAMP:20260422T092015
CREATED:20260113T180312Z
LAST-MODIFIED:20260113T180312Z
UID:10007061-1775887200-1775890800@thecovbrentwood.org
SUMMARY:Covenant Church Intercessory Prayer Call
DESCRIPTION:Get refreshed\, renewed and revived from whatever you’re going through in life at “The Well\,” our daily prayer call with the Intercessory Prayer Ministry. Held on weekdays at 5:30am and 9pm\, Monday through Friday\, and Saturdays at 6am. \nJoin by calling in to (562) 766-7703.
URL:https://thecovbrentwood.org/event/covenant-church-intercessory-prayer-call-12/2026-04-11/
ATTACH;FMTTYPE=image/jpeg:https://thecovbrentwood.org/wp-content/uploads/2024/01/prayer-call-the-well-event2.jpg
END:VEVENT
BEGIN:VEVENT
DTSTART;TZID=America/Los_Angeles:20260410T210000
DTEND;TZID=America/Los_Angeles:20260410T220000
DTSTAMP:20260422T092015
CREATED:20260113T180130Z
LAST-MODIFIED:20260113T180130Z
UID:10006864-1775854800-1775858400@thecovbrentwood.org
SUMMARY:Covenant Church Intercessory Prayer Call
DESCRIPTION:Get refreshed\, renewed and revived from whatever you’re going through in life at “The Well\,” our daily prayer call with the Intercessory Prayer Ministry. Held on weekdays at 5:30am and 9pm\, Monday through Friday\, and Saturdays at 6am. \nJoin by calling in to (562) 766-7703.
URL:https://thecovbrentwood.org/event/covenant-church-intercessory-prayer-call-11/2026-04-10/
ATTACH;FMTTYPE=image/jpeg:https://thecovbrentwood.org/wp-content/uploads/2024/01/prayer-call-the-well-event2.jpg
END:VEVENT
BEGIN:VEVENT
DTSTART;TZID=America/Los_Angeles:20260410T053000
DTEND;TZID=America/Los_Angeles:20260410T063000
DTSTAMP:20260422T092015
CREATED:20260113T175910Z
LAST-MODIFIED:20260113T175910Z
UID:10006616-1775799000-1775802600@thecovbrentwood.org
SUMMARY:Covenant Church Intercessory Prayer Call
DESCRIPTION:Get refreshed\, renewed and revived from whatever you’re going through in life at “The Well\,” our daily prayer call with the Intercessory Prayer Ministry. Held on weekdays at 5:30am and 9pm\, Monday through Friday\, and Saturdays at 6am. \nJoin by calling in to (562) 766-7703.
URL:https://thecovbrentwood.org/event/covenant-church-intercessory-prayer-call-10/2026-04-10/
ATTACH;FMTTYPE=image/jpeg:https://thecovbrentwood.org/wp-content/uploads/2024/01/prayer-call-the-well-event2.jpg
END:VEVENT
BEGIN:VEVENT
DTSTART;TZID=America/Los_Angeles:20260409T210000
DTEND;TZID=America/Los_Angeles:20260409T220000
DTSTAMP:20260422T092015
CREATED:20260113T180130Z
LAST-MODIFIED:20260113T180130Z
UID:10006863-1775768400-1775772000@thecovbrentwood.org
SUMMARY:Covenant Church Intercessory Prayer Call
DESCRIPTION:Get refreshed\, renewed and revived from whatever you’re going through in life at “The Well\,” our daily prayer call with the Intercessory Prayer Ministry. Held on weekdays at 5:30am and 9pm\, Monday through Friday\, and Saturdays at 6am. \nJoin by calling in to (562) 766-7703.
URL:https://thecovbrentwood.org/event/covenant-church-intercessory-prayer-call-11/2026-04-09/
ATTACH;FMTTYPE=image/jpeg:https://thecovbrentwood.org/wp-content/uploads/2024/01/prayer-call-the-well-event2.jpg
END:VEVENT
BEGIN:VEVENT
DTSTART;TZID=America/Los_Angeles:20260409T053000
DTEND;TZID=America/Los_Angeles:20260409T063000
DTSTAMP:20260422T092015
CREATED:20260113T175910Z
LAST-MODIFIED:20260113T175910Z
UID:10006615-1775712600-1775716200@thecovbrentwood.org
SUMMARY:Covenant Church Intercessory Prayer Call
DESCRIPTION:Get refreshed\, renewed and revived from whatever you’re going through in life at “The Well\,” our daily prayer call with the Intercessory Prayer Ministry. Held on weekdays at 5:30am and 9pm\, Monday through Friday\, and Saturdays at 6am. \nJoin by calling in to (562) 766-7703.
URL:https://thecovbrentwood.org/event/covenant-church-intercessory-prayer-call-10/2026-04-09/
ATTACH;FMTTYPE=image/jpeg:https://thecovbrentwood.org/wp-content/uploads/2024/01/prayer-call-the-well-event2.jpg
END:VEVENT
BEGIN:VEVENT
DTSTART;TZID=America/Los_Angeles:20260408T210000
DTEND;TZID=America/Los_Angeles:20260408T220000
DTSTAMP:20260422T092015
CREATED:20260113T180130Z
LAST-MODIFIED:20260113T180130Z
UID:10006862-1775682000-1775685600@thecovbrentwood.org
SUMMARY:Covenant Church Intercessory Prayer Call
DESCRIPTION:Get refreshed\, renewed and revived from whatever you’re going through in life at “The Well\,” our daily prayer call with the Intercessory Prayer Ministry. Held on weekdays at 5:30am and 9pm\, Monday through Friday\, and Saturdays at 6am. \nJoin by calling in to (562) 766-7703.
URL:https://thecovbrentwood.org/event/covenant-church-intercessory-prayer-call-11/2026-04-08/
ATTACH;FMTTYPE=image/jpeg:https://thecovbrentwood.org/wp-content/uploads/2024/01/prayer-call-the-well-event2.jpg
END:VEVENT
BEGIN:VEVENT
DTSTART;TZID=America/Los_Angeles:20260408T053000
DTEND;TZID=America/Los_Angeles:20260408T063000
DTSTAMP:20260422T092015
CREATED:20260113T175910Z
LAST-MODIFIED:20260113T175910Z
UID:10006614-1775626200-1775629800@thecovbrentwood.org
SUMMARY:Covenant Church Intercessory Prayer Call
DESCRIPTION:Get refreshed\, renewed and revived from whatever you’re going through in life at “The Well\,” our daily prayer call with the Intercessory Prayer Ministry. Held on weekdays at 5:30am and 9pm\, Monday through Friday\, and Saturdays at 6am. \nJoin by calling in to (562) 766-7703.
URL:https://thecovbrentwood.org/event/covenant-church-intercessory-prayer-call-10/2026-04-08/
ATTACH;FMTTYPE=image/jpeg:https://thecovbrentwood.org/wp-content/uploads/2024/01/prayer-call-the-well-event2.jpg
END:VEVENT
BEGIN:VEVENT
DTSTART;TZID=America/Los_Angeles:20260407T210000
DTEND;TZID=America/Los_Angeles:20260407T220000
DTSTAMP:20260422T092015
CREATED:20260113T180130Z
LAST-MODIFIED:20260113T180130Z
UID:10006861-1775595600-1775599200@thecovbrentwood.org
SUMMARY:Covenant Church Intercessory Prayer Call
DESCRIPTION:Get refreshed\, renewed and revived from whatever you’re going through in life at “The Well\,” our daily prayer call with the Intercessory Prayer Ministry. Held on weekdays at 5:30am and 9pm\, Monday through Friday\, and Saturdays at 6am. \nJoin by calling in to (562) 766-7703.
URL:https://thecovbrentwood.org/event/covenant-church-intercessory-prayer-call-11/2026-04-07/
ATTACH;FMTTYPE=image/jpeg:https://thecovbrentwood.org/wp-content/uploads/2024/01/prayer-call-the-well-event2.jpg
END:VEVENT
BEGIN:VEVENT
DTSTART;TZID=America/Los_Angeles:20260407T190000
DTEND;TZID=America/Los_Angeles:20260407T203000
DTSTAMP:20260422T092015
CREATED:20260113T175628Z
LAST-MODIFIED:20260113T175628Z
UID:10006514-1775588400-1775593800@thecovbrentwood.org
SUMMARY:The Quest Bible Study
DESCRIPTION:Join Bishop Woods on the Quest on Facebook Live as he expands on his sermons and teaches us how to go deeper in the Word. Tune in and invite a friend!
URL:https://thecovbrentwood.org/event/the-quest-bible-study-5/2026-04-07/
ATTACH;FMTTYPE=image/jpeg:https://thecovbrentwood.org/wp-content/uploads/2020/07/The-Quest-Bible-Study-event.jpg
END:VEVENT
BEGIN:VEVENT
DTSTART;TZID=America/Los_Angeles:20260407T053000
DTEND;TZID=America/Los_Angeles:20260407T063000
DTSTAMP:20260422T092015
CREATED:20260113T175910Z
LAST-MODIFIED:20260113T175910Z
UID:10006613-1775539800-1775543400@thecovbrentwood.org
SUMMARY:Covenant Church Intercessory Prayer Call
DESCRIPTION:Get refreshed\, renewed and revived from whatever you’re going through in life at “The Well\,” our daily prayer call with the Intercessory Prayer Ministry. Held on weekdays at 5:30am and 9pm\, Monday through Friday\, and Saturdays at 6am. \nJoin by calling in to (562) 766-7703.
URL:https://thecovbrentwood.org/event/covenant-church-intercessory-prayer-call-10/2026-04-07/
ATTACH;FMTTYPE=image/jpeg:https://thecovbrentwood.org/wp-content/uploads/2024/01/prayer-call-the-well-event2.jpg
END:VEVENT
BEGIN:VEVENT
DTSTART;TZID=America/Los_Angeles:20260406T210000
DTEND;TZID=America/Los_Angeles:20260406T220000
DTSTAMP:20260422T092015
CREATED:20260113T180130Z
LAST-MODIFIED:20260113T180130Z
UID:10006860-1775509200-1775512800@thecovbrentwood.org
SUMMARY:Covenant Church Intercessory Prayer Call
DESCRIPTION:Get refreshed\, renewed and revived from whatever you’re going through in life at “The Well\,” our daily prayer call with the Intercessory Prayer Ministry. Held on weekdays at 5:30am and 9pm\, Monday through Friday\, and Saturdays at 6am. \nJoin by calling in to (562) 766-7703.
URL:https://thecovbrentwood.org/event/covenant-church-intercessory-prayer-call-11/2026-04-06/
ATTACH;FMTTYPE=image/jpeg:https://thecovbrentwood.org/wp-content/uploads/2024/01/prayer-call-the-well-event2.jpg
END:VEVENT
BEGIN:VEVENT
DTSTART;TZID=America/Los_Angeles:20260406T053000
DTEND;TZID=America/Los_Angeles:20260406T063000
DTSTAMP:20260422T092015
CREATED:20260113T175910Z
LAST-MODIFIED:20260113T175910Z
UID:10006612-1775453400-1775457000@thecovbrentwood.org
SUMMARY:Covenant Church Intercessory Prayer Call
DESCRIPTION:Get refreshed\, renewed and revived from whatever you’re going through in life at “The Well\,” our daily prayer call with the Intercessory Prayer Ministry. Held on weekdays at 5:30am and 9pm\, Monday through Friday\, and Saturdays at 6am. \nJoin by calling in to (562) 766-7703.
URL:https://thecovbrentwood.org/event/covenant-church-intercessory-prayer-call-10/2026-04-06/
ATTACH;FMTTYPE=image/jpeg:https://thecovbrentwood.org/wp-content/uploads/2024/01/prayer-call-the-well-event2.jpg
END:VEVENT
BEGIN:VEVENT
DTSTART;TZID=America/Los_Angeles:20260405T123000
DTEND;TZID=America/Los_Angeles:20260405T140000
DTSTAMP:20260422T092015
CREATED:20260310T195202Z
LAST-MODIFIED:20260310T195202Z
UID:10007128-1775392200-1775397600@thecovbrentwood.org
SUMMARY:GriefShare
DESCRIPTION:Are you grieving? You are not alone. Come receive support and encouragement for your healing journey with our GriefShare support group. Through this 11-week group\, you’ll discover what to expect in the days ahead and what’s “normal” in grief. Since there are no neat\, orderly stages of grief\, you’ll learn helpful ways of coping with grief\, in all its unpredictability—and gain solid support each step of the way.
URL:https://thecovbrentwood.org/event/griefshare-2/2026-04-05/
LOCATION:Covenant Church – Brentwood Campus\, 6830 Lone Tree Way\, Brentwood\, CA\, 94513\, United States
ATTACH;FMTTYPE=image/png:https://thecovbrentwood.org/wp-content/uploads/2025/06/GriefShare-event.png
END:VEVENT
BEGIN:VEVENT
DTSTART;TZID=America/Los_Angeles:20260405T100000
DTEND;TZID=America/Los_Angeles:20260405T113000
DTSTAMP:20260422T092015
CREATED:20260113T175309Z
LAST-MODIFIED:20260113T175309Z
UID:10006463-1775383200-1775388600@thecovbrentwood.org
SUMMARY:Sunday Worship Service
DESCRIPTION:Need to hear a word from the Lord? Looking for an authentic worship experience? Seeking more opportunities to fellowship with others who want a deeper relationship with Jesus? This is where you’ll find it. Join us for church in-person at 10am or online at 12:30am. Each service is guaranteed to leave you saying\, “I got just what I wanted.”
URL:https://thecovbrentwood.org/event/sunday-worship-service-35/2026-04-05/
LOCATION:Covenant Church – Brentwood Campus\, 6830 Lone Tree Way\, Brentwood\, CA\, 94513\, United States
ATTACH;FMTTYPE=image/jpeg:https://thecovbrentwood.org/wp-content/uploads/2026/01/Covenant-Church-Events-2.jpg
END:VEVENT
BEGIN:VEVENT
DTSTART;TZID=America/Los_Angeles:20260404T060000
DTEND;TZID=America/Los_Angeles:20260404T070000
DTSTAMP:20260422T092015
CREATED:20260113T180312Z
LAST-MODIFIED:20260113T180312Z
UID:10007060-1775282400-1775286000@thecovbrentwood.org
SUMMARY:Covenant Church Intercessory Prayer Call
DESCRIPTION:Get refreshed\, renewed and revived from whatever you’re going through in life at “The Well\,” our daily prayer call with the Intercessory Prayer Ministry. Held on weekdays at 5:30am and 9pm\, Monday through Friday\, and Saturdays at 6am. \nJoin by calling in to (562) 766-7703.
URL:https://thecovbrentwood.org/event/covenant-church-intercessory-prayer-call-12/2026-04-04/
ATTACH;FMTTYPE=image/jpeg:https://thecovbrentwood.org/wp-content/uploads/2024/01/prayer-call-the-well-event2.jpg
END:VEVENT
BEGIN:VEVENT
DTSTART;TZID=America/Los_Angeles:20260403T210000
DTEND;TZID=America/Los_Angeles:20260403T220000
DTSTAMP:20260422T092015
CREATED:20260113T180130Z
LAST-MODIFIED:20260113T180130Z
UID:10006859-1775250000-1775253600@thecovbrentwood.org
SUMMARY:Covenant Church Intercessory Prayer Call
DESCRIPTION:Get refreshed\, renewed and revived from whatever you’re going through in life at “The Well\,” our daily prayer call with the Intercessory Prayer Ministry. Held on weekdays at 5:30am and 9pm\, Monday through Friday\, and Saturdays at 6am. \nJoin by calling in to (562) 766-7703.
URL:https://thecovbrentwood.org/event/covenant-church-intercessory-prayer-call-11/2026-04-03/
ATTACH;FMTTYPE=image/jpeg:https://thecovbrentwood.org/wp-content/uploads/2024/01/prayer-call-the-well-event2.jpg
END:VEVENT
BEGIN:VEVENT
DTSTART;TZID=America/Los_Angeles:20260403T053000
DTEND;TZID=America/Los_Angeles:20260403T063000
DTSTAMP:20260422T092015
CREATED:20260113T175910Z
LAST-MODIFIED:20260113T175910Z
UID:10006611-1775194200-1775197800@thecovbrentwood.org
SUMMARY:Covenant Church Intercessory Prayer Call
DESCRIPTION:Get refreshed\, renewed and revived from whatever you’re going through in life at “The Well\,” our daily prayer call with the Intercessory Prayer Ministry. Held on weekdays at 5:30am and 9pm\, Monday through Friday\, and Saturdays at 6am. \nJoin by calling in to (562) 766-7703.
URL:https://thecovbrentwood.org/event/covenant-church-intercessory-prayer-call-10/2026-04-03/
ATTACH;FMTTYPE=image/jpeg:https://thecovbrentwood.org/wp-content/uploads/2024/01/prayer-call-the-well-event2.jpg
END:VEVENT
BEGIN:VEVENT
DTSTART;TZID=America/Los_Angeles:20260402T210000
DTEND;TZID=America/Los_Angeles:20260402T220000
DTSTAMP:20260422T092015
CREATED:20260113T180130Z
LAST-MODIFIED:20260113T180130Z
UID:10006858-1775163600-1775167200@thecovbrentwood.org
SUMMARY:Covenant Church Intercessory Prayer Call
DESCRIPTION:Get refreshed\, renewed and revived from whatever you’re going through in life at “The Well\,” our daily prayer call with the Intercessory Prayer Ministry. Held on weekdays at 5:30am and 9pm\, Monday through Friday\, and Saturdays at 6am. \nJoin by calling in to (562) 766-7703.
URL:https://thecovbrentwood.org/event/covenant-church-intercessory-prayer-call-11/2026-04-02/
ATTACH;FMTTYPE=image/jpeg:https://thecovbrentwood.org/wp-content/uploads/2024/01/prayer-call-the-well-event2.jpg
END:VEVENT
BEGIN:VEVENT
DTSTART;TZID=America/Los_Angeles:20260402T053000
DTEND;TZID=America/Los_Angeles:20260402T063000
DTSTAMP:20260422T092015
CREATED:20260113T175910Z
LAST-MODIFIED:20260113T175910Z
UID:10006610-1775107800-1775111400@thecovbrentwood.org
SUMMARY:Covenant Church Intercessory Prayer Call
DESCRIPTION:Get refreshed\, renewed and revived from whatever you’re going through in life at “The Well\,” our daily prayer call with the Intercessory Prayer Ministry. Held on weekdays at 5:30am and 9pm\, Monday through Friday\, and Saturdays at 6am. \nJoin by calling in to (562) 766-7703.
URL:https://thecovbrentwood.org/event/covenant-church-intercessory-prayer-call-10/2026-04-02/
ATTACH;FMTTYPE=image/jpeg:https://thecovbrentwood.org/wp-content/uploads/2024/01/prayer-call-the-well-event2.jpg
END:VEVENT
BEGIN:VEVENT
DTSTART;TZID=America/Los_Angeles:20260401T210000
DTEND;TZID=America/Los_Angeles:20260401T220000
DTSTAMP:20260422T092015
CREATED:20260113T180130Z
LAST-MODIFIED:20260113T180130Z
UID:10006857-1775077200-1775080800@thecovbrentwood.org
SUMMARY:Covenant Church Intercessory Prayer Call
DESCRIPTION:Get refreshed\, renewed and revived from whatever you’re going through in life at “The Well\,” our daily prayer call with the Intercessory Prayer Ministry. Held on weekdays at 5:30am and 9pm\, Monday through Friday\, and Saturdays at 6am. \nJoin by calling in to (562) 766-7703.
URL:https://thecovbrentwood.org/event/covenant-church-intercessory-prayer-call-11/2026-04-01/
ATTACH;FMTTYPE=image/jpeg:https://thecovbrentwood.org/wp-content/uploads/2024/01/prayer-call-the-well-event2.jpg
END:VEVENT
BEGIN:VEVENT
DTSTART;TZID=America/Los_Angeles:20260401T053000
DTEND;TZID=America/Los_Angeles:20260401T063000
DTSTAMP:20260422T092015
CREATED:20260113T175910Z
LAST-MODIFIED:20260113T175910Z
UID:10006609-1775021400-1775025000@thecovbrentwood.org
SUMMARY:Covenant Church Intercessory Prayer Call
DESCRIPTION:Get refreshed\, renewed and revived from whatever you’re going through in life at “The Well\,” our daily prayer call with the Intercessory Prayer Ministry. Held on weekdays at 5:30am and 9pm\, Monday through Friday\, and Saturdays at 6am. \nJoin by calling in to (562) 766-7703.
URL:https://thecovbrentwood.org/event/covenant-church-intercessory-prayer-call-10/2026-04-01/
ATTACH;FMTTYPE=image/jpeg:https://thecovbrentwood.org/wp-content/uploads/2024/01/prayer-call-the-well-event2.jpg
END:VEVENT
BEGIN:VEVENT
DTSTART;TZID=America/Los_Angeles:20260331T210000
DTEND;TZID=America/Los_Angeles:20260331T220000
DTSTAMP:20260422T092015
CREATED:20260113T180130Z
LAST-MODIFIED:20260113T180130Z
UID:10006856-1774990800-1774994400@thecovbrentwood.org
SUMMARY:Covenant Church Intercessory Prayer Call
DESCRIPTION:Get refreshed\, renewed and revived from whatever you’re going through in life at “The Well\,” our daily prayer call with the Intercessory Prayer Ministry. Held on weekdays at 5:30am and 9pm\, Monday through Friday\, and Saturdays at 6am. \nJoin by calling in to (562) 766-7703.
URL:https://thecovbrentwood.org/event/covenant-church-intercessory-prayer-call-11/2026-03-31/
ATTACH;FMTTYPE=image/jpeg:https://thecovbrentwood.org/wp-content/uploads/2024/01/prayer-call-the-well-event2.jpg
END:VEVENT
BEGIN:VEVENT
DTSTART;TZID=America/Los_Angeles:20260331T190000
DTEND;TZID=America/Los_Angeles:20260331T203000
DTSTAMP:20260422T092015
CREATED:20260113T175628Z
LAST-MODIFIED:20260113T175628Z
UID:10006513-1774983600-1774989000@thecovbrentwood.org
SUMMARY:The Quest Bible Study
DESCRIPTION:Join Bishop Woods on the Quest on Facebook Live as he expands on his sermons and teaches us how to go deeper in the Word. Tune in and invite a friend!
URL:https://thecovbrentwood.org/event/the-quest-bible-study-5/2026-03-31/
ATTACH;FMTTYPE=image/jpeg:https://thecovbrentwood.org/wp-content/uploads/2020/07/The-Quest-Bible-Study-event.jpg
END:VEVENT
BEGIN:VEVENT
DTSTART;TZID=America/Los_Angeles:20260331T053000
DTEND;TZID=America/Los_Angeles:20260331T063000
DTSTAMP:20260422T092015
CREATED:20260113T175910Z
LAST-MODIFIED:20260113T175910Z
UID:10006608-1774935000-1774938600@thecovbrentwood.org
SUMMARY:Covenant Church Intercessory Prayer Call
DESCRIPTION:Get refreshed\, renewed and revived from whatever you’re going through in life at “The Well\,” our daily prayer call with the Intercessory Prayer Ministry. Held on weekdays at 5:30am and 9pm\, Monday through Friday\, and Saturdays at 6am. \nJoin by calling in to (562) 766-7703.
URL:https://thecovbrentwood.org/event/covenant-church-intercessory-prayer-call-10/2026-03-31/
ATTACH;FMTTYPE=image/jpeg:https://thecovbrentwood.org/wp-content/uploads/2024/01/prayer-call-the-well-event2.jpg
END:VEVENT
BEGIN:VEVENT
DTSTART;TZID=America/Los_Angeles:20260330T210000
DTEND;TZID=America/Los_Angeles:20260330T220000
DTSTAMP:20260422T092015
CREATED:20260113T180130Z
LAST-MODIFIED:20260113T180130Z
UID:10006855-1774904400-1774908000@thecovbrentwood.org
SUMMARY:Covenant Church Intercessory Prayer Call
DESCRIPTION:Get refreshed\, renewed and revived from whatever you’re going through in life at “The Well\,” our daily prayer call with the Intercessory Prayer Ministry. Held on weekdays at 5:30am and 9pm\, Monday through Friday\, and Saturdays at 6am. \nJoin by calling in to (562) 766-7703.
URL:https://thecovbrentwood.org/event/covenant-church-intercessory-prayer-call-11/2026-03-30/
ATTACH;FMTTYPE=image/jpeg:https://thecovbrentwood.org/wp-content/uploads/2024/01/prayer-call-the-well-event2.jpg
END:VEVENT
BEGIN:VEVENT
DTSTART;TZID=America/Los_Angeles:20260330T053000
DTEND;TZID=America/Los_Angeles:20260330T063000
DTSTAMP:20260422T092015
CREATED:20260113T175910Z
LAST-MODIFIED:20260113T175910Z
UID:10006607-1774848600-1774852200@thecovbrentwood.org
SUMMARY:Covenant Church Intercessory Prayer Call
DESCRIPTION:Get refreshed\, renewed and revived from whatever you’re going through in life at “The Well\,” our daily prayer call with the Intercessory Prayer Ministry. Held on weekdays at 5:30am and 9pm\, Monday through Friday\, and Saturdays at 6am. \nJoin by calling in to (562) 766-7703.
URL:https://thecovbrentwood.org/event/covenant-church-intercessory-prayer-call-10/2026-03-30/
ATTACH;FMTTYPE=image/jpeg:https://thecovbrentwood.org/wp-content/uploads/2024/01/prayer-call-the-well-event2.jpg
END:VEVENT
BEGIN:VEVENT
DTSTART;TZID=America/Los_Angeles:20260329T123000
DTEND;TZID=America/Los_Angeles:20260329T140000
DTSTAMP:20260422T092015
CREATED:20260310T195202Z
LAST-MODIFIED:20260310T195202Z
UID:10007127-1774787400-1774792800@thecovbrentwood.org
SUMMARY:GriefShare
DESCRIPTION:Are you grieving? You are not alone. Come receive support and encouragement for your healing journey with our GriefShare support group. Through this 11-week group\, you’ll discover what to expect in the days ahead and what’s “normal” in grief. Since there are no neat\, orderly stages of grief\, you’ll learn helpful ways of coping with grief\, in all its unpredictability—and gain solid support each step of the way.
URL:https://thecovbrentwood.org/event/griefshare-2/2026-03-29/
LOCATION:Covenant Church – Brentwood Campus\, 6830 Lone Tree Way\, Brentwood\, CA\, 94513\, United States
ATTACH;FMTTYPE=image/png:https://thecovbrentwood.org/wp-content/uploads/2025/06/GriefShare-event.png
END:VEVENT
BEGIN:VEVENT
DTSTART;TZID=America/Los_Angeles:20260329T100000
DTEND;TZID=America/Los_Angeles:20260329T113000
DTSTAMP:20260422T092015
CREATED:20260113T175309Z
LAST-MODIFIED:20260113T175309Z
UID:10006462-1774778400-1774783800@thecovbrentwood.org
SUMMARY:Sunday Worship Service
DESCRIPTION:Need to hear a word from the Lord? Looking for an authentic worship experience? Seeking more opportunities to fellowship with others who want a deeper relationship with Jesus? This is where you’ll find it. Join us for church in-person at 10am or online at 12:30am. Each service is guaranteed to leave you saying\, “I got just what I wanted.”
URL:https://thecovbrentwood.org/event/sunday-worship-service-35/2026-03-29/
LOCATION:Covenant Church – Brentwood Campus\, 6830 Lone Tree Way\, Brentwood\, CA\, 94513\, United States
ATTACH;FMTTYPE=image/jpeg:https://thecovbrentwood.org/wp-content/uploads/2026/01/Covenant-Church-Events-2.jpg
END:VEVENT
BEGIN:VEVENT
DTSTART;TZID=America/Los_Angeles:20260328T060000
DTEND;TZID=America/Los_Angeles:20260328T070000
DTSTAMP:20260422T092015
CREATED:20260113T180312Z
LAST-MODIFIED:20260113T180312Z
UID:10007059-1774677600-1774681200@thecovbrentwood.org
SUMMARY:Covenant Church Intercessory Prayer Call
DESCRIPTION:Get refreshed\, renewed and revived from whatever you’re going through in life at “The Well\,” our daily prayer call with the Intercessory Prayer Ministry. Held on weekdays at 5:30am and 9pm\, Monday through Friday\, and Saturdays at 6am. \nJoin by calling in to (562) 766-7703.
URL:https://thecovbrentwood.org/event/covenant-church-intercessory-prayer-call-12/2026-03-28/
ATTACH;FMTTYPE=image/jpeg:https://thecovbrentwood.org/wp-content/uploads/2024/01/prayer-call-the-well-event2.jpg
END:VEVENT
END:VCALENDAR