BEGIN:VCALENDAR
VERSION:2.0
PRODID:-//Covenant Church - Brentwood - ECPv6.15.20//NONSGML v1.0//EN
CALSCALE:GREGORIAN
METHOD:PUBLISH
X-ORIGINAL-URL:https://thecovbrentwood.org
X-WR-CALDESC:Events for Covenant Church - Brentwood
REFRESH-INTERVAL;VALUE=DURATION:PT1H
X-Robots-Tag:noindex
X-PUBLISHED-TTL:PT1H
BEGIN:VTIMEZONE
TZID:America/Los_Angeles
BEGIN:DAYLIGHT
TZOFFSETFROM:-0800
TZOFFSETTO:-0700
TZNAME:PDT
DTSTART:20250309T100000
END:DAYLIGHT
BEGIN:STANDARD
TZOFFSETFROM:-0700
TZOFFSETTO:-0800
TZNAME:PST
DTSTART:20251102T090000
END:STANDARD
BEGIN:DAYLIGHT
TZOFFSETFROM:-0800
TZOFFSETTO:-0700
TZNAME:PDT
DTSTART:20260308T100000
END:DAYLIGHT
BEGIN:STANDARD
TZOFFSETFROM:-0700
TZOFFSETTO:-0800
TZNAME:PST
DTSTART:20261101T090000
END:STANDARD
BEGIN:DAYLIGHT
TZOFFSETFROM:-0800
TZOFFSETTO:-0700
TZNAME:PDT
DTSTART:20270314T100000
END:DAYLIGHT
BEGIN:STANDARD
TZOFFSETFROM:-0700
TZOFFSETTO:-0800
TZNAME:PST
DTSTART:20271107T090000
END:STANDARD
END:VTIMEZONE
BEGIN:VEVENT
DTSTART;TZID=America/Los_Angeles:20260616T053000
DTEND;TZID=America/Los_Angeles:20260616T063000
DTSTAMP:20260424T141311
CREATED:20260113T175910Z
LAST-MODIFIED:20260113T175910Z
UID:10006663-1781587800-1781591400@thecovbrentwood.org
SUMMARY:Covenant Church Intercessory Prayer Call
DESCRIPTION:Get refreshed\, renewed and revived from whatever you’re going through in life at “The Well\,” our daily prayer call with the Intercessory Prayer Ministry. Held on weekdays at 5:30am and 9pm\, Monday through Friday\, and Saturdays at 6am. \nJoin by calling in to (562) 766-7703.
URL:https://thecovbrentwood.org/event/covenant-church-intercessory-prayer-call-10/2026-06-16/
ATTACH;FMTTYPE=image/jpeg:https://thecovbrentwood.org/wp-content/uploads/2024/01/prayer-call-the-well-event2.jpg
END:VEVENT
BEGIN:VEVENT
DTSTART;TZID=America/Los_Angeles:20260616T190000
DTEND;TZID=America/Los_Angeles:20260616T203000
DTSTAMP:20260424T141311
CREATED:20260113T175628Z
LAST-MODIFIED:20260113T175628Z
UID:10006524-1781636400-1781641800@thecovbrentwood.org
SUMMARY:The Quest Bible Study
DESCRIPTION:Join Bishop Woods on the Quest on Facebook Live as he expands on his sermons and teaches us how to go deeper in the Word. Tune in and invite a friend!
URL:https://thecovbrentwood.org/event/the-quest-bible-study-5/2026-06-16/
ATTACH;FMTTYPE=image/jpeg:https://thecovbrentwood.org/wp-content/uploads/2020/07/The-Quest-Bible-Study-event.jpg
END:VEVENT
BEGIN:VEVENT
DTSTART;TZID=America/Los_Angeles:20260616T210000
DTEND;TZID=America/Los_Angeles:20260616T220000
DTSTAMP:20260424T141311
CREATED:20260113T180130Z
LAST-MODIFIED:20260113T180130Z
UID:10006911-1781643600-1781647200@thecovbrentwood.org
SUMMARY:Covenant Church Intercessory Prayer Call
DESCRIPTION:Get refreshed\, renewed and revived from whatever you’re going through in life at “The Well\,” our daily prayer call with the Intercessory Prayer Ministry. Held on weekdays at 5:30am and 9pm\, Monday through Friday\, and Saturdays at 6am. \nJoin by calling in to (562) 766-7703.
URL:https://thecovbrentwood.org/event/covenant-church-intercessory-prayer-call-11/2026-06-16/
ATTACH;FMTTYPE=image/jpeg:https://thecovbrentwood.org/wp-content/uploads/2024/01/prayer-call-the-well-event2.jpg
END:VEVENT
BEGIN:VEVENT
DTSTART;TZID=America/Los_Angeles:20260617T053000
DTEND;TZID=America/Los_Angeles:20260617T063000
DTSTAMP:20260424T141311
CREATED:20260113T175910Z
LAST-MODIFIED:20260113T175910Z
UID:10006664-1781674200-1781677800@thecovbrentwood.org
SUMMARY:Covenant Church Intercessory Prayer Call
DESCRIPTION:Get refreshed\, renewed and revived from whatever you’re going through in life at “The Well\,” our daily prayer call with the Intercessory Prayer Ministry. Held on weekdays at 5:30am and 9pm\, Monday through Friday\, and Saturdays at 6am. \nJoin by calling in to (562) 766-7703.
URL:https://thecovbrentwood.org/event/covenant-church-intercessory-prayer-call-10/2026-06-17/
ATTACH;FMTTYPE=image/jpeg:https://thecovbrentwood.org/wp-content/uploads/2024/01/prayer-call-the-well-event2.jpg
END:VEVENT
BEGIN:VEVENT
DTSTART;TZID=America/Los_Angeles:20260617T210000
DTEND;TZID=America/Los_Angeles:20260617T220000
DTSTAMP:20260424T141311
CREATED:20260113T180130Z
LAST-MODIFIED:20260113T180130Z
UID:10006912-1781730000-1781733600@thecovbrentwood.org
SUMMARY:Covenant Church Intercessory Prayer Call
DESCRIPTION:Get refreshed\, renewed and revived from whatever you’re going through in life at “The Well\,” our daily prayer call with the Intercessory Prayer Ministry. Held on weekdays at 5:30am and 9pm\, Monday through Friday\, and Saturdays at 6am. \nJoin by calling in to (562) 766-7703.
URL:https://thecovbrentwood.org/event/covenant-church-intercessory-prayer-call-11/2026-06-17/
ATTACH;FMTTYPE=image/jpeg:https://thecovbrentwood.org/wp-content/uploads/2024/01/prayer-call-the-well-event2.jpg
END:VEVENT
BEGIN:VEVENT
DTSTART;TZID=America/Los_Angeles:20260618T053000
DTEND;TZID=America/Los_Angeles:20260618T063000
DTSTAMP:20260424T141311
CREATED:20260113T175910Z
LAST-MODIFIED:20260113T175910Z
UID:10006665-1781760600-1781764200@thecovbrentwood.org
SUMMARY:Covenant Church Intercessory Prayer Call
DESCRIPTION:Get refreshed\, renewed and revived from whatever you’re going through in life at “The Well\,” our daily prayer call with the Intercessory Prayer Ministry. Held on weekdays at 5:30am and 9pm\, Monday through Friday\, and Saturdays at 6am. \nJoin by calling in to (562) 766-7703.
URL:https://thecovbrentwood.org/event/covenant-church-intercessory-prayer-call-10/2026-06-18/
ATTACH;FMTTYPE=image/jpeg:https://thecovbrentwood.org/wp-content/uploads/2024/01/prayer-call-the-well-event2.jpg
END:VEVENT
BEGIN:VEVENT
DTSTART;TZID=America/Los_Angeles:20260618T210000
DTEND;TZID=America/Los_Angeles:20260618T220000
DTSTAMP:20260424T141311
CREATED:20260113T180130Z
LAST-MODIFIED:20260113T180130Z
UID:10006913-1781816400-1781820000@thecovbrentwood.org
SUMMARY:Covenant Church Intercessory Prayer Call
DESCRIPTION:Get refreshed\, renewed and revived from whatever you’re going through in life at “The Well\,” our daily prayer call with the Intercessory Prayer Ministry. Held on weekdays at 5:30am and 9pm\, Monday through Friday\, and Saturdays at 6am. \nJoin by calling in to (562) 766-7703.
URL:https://thecovbrentwood.org/event/covenant-church-intercessory-prayer-call-11/2026-06-18/
ATTACH;FMTTYPE=image/jpeg:https://thecovbrentwood.org/wp-content/uploads/2024/01/prayer-call-the-well-event2.jpg
END:VEVENT
BEGIN:VEVENT
DTSTART;TZID=America/Los_Angeles:20260619T053000
DTEND;TZID=America/Los_Angeles:20260619T063000
DTSTAMP:20260424T141311
CREATED:20260113T175910Z
LAST-MODIFIED:20260113T175910Z
UID:10006666-1781847000-1781850600@thecovbrentwood.org
SUMMARY:Covenant Church Intercessory Prayer Call
DESCRIPTION:Get refreshed\, renewed and revived from whatever you’re going through in life at “The Well\,” our daily prayer call with the Intercessory Prayer Ministry. Held on weekdays at 5:30am and 9pm\, Monday through Friday\, and Saturdays at 6am. \nJoin by calling in to (562) 766-7703.
URL:https://thecovbrentwood.org/event/covenant-church-intercessory-prayer-call-10/2026-06-19/
ATTACH;FMTTYPE=image/jpeg:https://thecovbrentwood.org/wp-content/uploads/2024/01/prayer-call-the-well-event2.jpg
END:VEVENT
BEGIN:VEVENT
DTSTART;TZID=America/Los_Angeles:20260619T210000
DTEND;TZID=America/Los_Angeles:20260619T220000
DTSTAMP:20260424T141311
CREATED:20260113T180130Z
LAST-MODIFIED:20260113T180130Z
UID:10006914-1781902800-1781906400@thecovbrentwood.org
SUMMARY:Covenant Church Intercessory Prayer Call
DESCRIPTION:Get refreshed\, renewed and revived from whatever you’re going through in life at “The Well\,” our daily prayer call with the Intercessory Prayer Ministry. Held on weekdays at 5:30am and 9pm\, Monday through Friday\, and Saturdays at 6am. \nJoin by calling in to (562) 766-7703.
URL:https://thecovbrentwood.org/event/covenant-church-intercessory-prayer-call-11/2026-06-19/
ATTACH;FMTTYPE=image/jpeg:https://thecovbrentwood.org/wp-content/uploads/2024/01/prayer-call-the-well-event2.jpg
END:VEVENT
BEGIN:VEVENT
DTSTART;TZID=America/Los_Angeles:20260620T060000
DTEND;TZID=America/Los_Angeles:20260620T070000
DTSTAMP:20260424T141311
CREATED:20260113T180312Z
LAST-MODIFIED:20260113T180312Z
UID:10007071-1781935200-1781938800@thecovbrentwood.org
SUMMARY:Covenant Church Intercessory Prayer Call
DESCRIPTION:Get refreshed\, renewed and revived from whatever you’re going through in life at “The Well\,” our daily prayer call with the Intercessory Prayer Ministry. Held on weekdays at 5:30am and 9pm\, Monday through Friday\, and Saturdays at 6am. \nJoin by calling in to (562) 766-7703.
URL:https://thecovbrentwood.org/event/covenant-church-intercessory-prayer-call-12/2026-06-20/
ATTACH;FMTTYPE=image/jpeg:https://thecovbrentwood.org/wp-content/uploads/2024/01/prayer-call-the-well-event2.jpg
END:VEVENT
BEGIN:VEVENT
DTSTART;TZID=America/Los_Angeles:20260621T100000
DTEND;TZID=America/Los_Angeles:20260621T113000
DTSTAMP:20260424T141311
CREATED:20260113T175309Z
LAST-MODIFIED:20260113T175309Z
UID:10006474-1782036000-1782041400@thecovbrentwood.org
SUMMARY:Sunday Worship Service
DESCRIPTION:Need to hear a word from the Lord? Looking for an authentic worship experience? Seeking more opportunities to fellowship with others who want a deeper relationship with Jesus? This is where you’ll find it. Join us for church in-person at 10am or online at 12:30am. Each service is guaranteed to leave you saying\, “I got just what I wanted.”
URL:https://thecovbrentwood.org/event/sunday-worship-service-35/2026-06-21/
LOCATION:Covenant Church – Brentwood Campus\, 6830 Lone Tree Way\, Brentwood\, CA\, 94513\, United States
ATTACH;FMTTYPE=image/jpeg:https://thecovbrentwood.org/wp-content/uploads/2026/01/Covenant-Church-Events-2.jpg
END:VEVENT
BEGIN:VEVENT
DTSTART;TZID=America/Los_Angeles:20260622T053000
DTEND;TZID=America/Los_Angeles:20260622T063000
DTSTAMP:20260424T141311
CREATED:20260113T175910Z
LAST-MODIFIED:20260113T175910Z
UID:10006667-1782106200-1782109800@thecovbrentwood.org
SUMMARY:Covenant Church Intercessory Prayer Call
DESCRIPTION:Get refreshed\, renewed and revived from whatever you’re going through in life at “The Well\,” our daily prayer call with the Intercessory Prayer Ministry. Held on weekdays at 5:30am and 9pm\, Monday through Friday\, and Saturdays at 6am. \nJoin by calling in to (562) 766-7703.
URL:https://thecovbrentwood.org/event/covenant-church-intercessory-prayer-call-10/2026-06-22/
ATTACH;FMTTYPE=image/jpeg:https://thecovbrentwood.org/wp-content/uploads/2024/01/prayer-call-the-well-event2.jpg
END:VEVENT
BEGIN:VEVENT
DTSTART;TZID=America/Los_Angeles:20260622T210000
DTEND;TZID=America/Los_Angeles:20260622T220000
DTSTAMP:20260424T141311
CREATED:20260113T180130Z
LAST-MODIFIED:20260113T180130Z
UID:10006915-1782162000-1782165600@thecovbrentwood.org
SUMMARY:Covenant Church Intercessory Prayer Call
DESCRIPTION:Get refreshed\, renewed and revived from whatever you’re going through in life at “The Well\,” our daily prayer call with the Intercessory Prayer Ministry. Held on weekdays at 5:30am and 9pm\, Monday through Friday\, and Saturdays at 6am. \nJoin by calling in to (562) 766-7703.
URL:https://thecovbrentwood.org/event/covenant-church-intercessory-prayer-call-11/2026-06-22/
ATTACH;FMTTYPE=image/jpeg:https://thecovbrentwood.org/wp-content/uploads/2024/01/prayer-call-the-well-event2.jpg
END:VEVENT
BEGIN:VEVENT
DTSTART;TZID=America/Los_Angeles:20260623T053000
DTEND;TZID=America/Los_Angeles:20260623T063000
DTSTAMP:20260424T141311
CREATED:20260113T175910Z
LAST-MODIFIED:20260113T175910Z
UID:10006668-1782192600-1782196200@thecovbrentwood.org
SUMMARY:Covenant Church Intercessory Prayer Call
DESCRIPTION:Get refreshed\, renewed and revived from whatever you’re going through in life at “The Well\,” our daily prayer call with the Intercessory Prayer Ministry. Held on weekdays at 5:30am and 9pm\, Monday through Friday\, and Saturdays at 6am. \nJoin by calling in to (562) 766-7703.
URL:https://thecovbrentwood.org/event/covenant-church-intercessory-prayer-call-10/2026-06-23/
ATTACH;FMTTYPE=image/jpeg:https://thecovbrentwood.org/wp-content/uploads/2024/01/prayer-call-the-well-event2.jpg
END:VEVENT
BEGIN:VEVENT
DTSTART;TZID=America/Los_Angeles:20260623T190000
DTEND;TZID=America/Los_Angeles:20260623T203000
DTSTAMP:20260424T141311
CREATED:20260113T175628Z
LAST-MODIFIED:20260113T175628Z
UID:10006525-1782241200-1782246600@thecovbrentwood.org
SUMMARY:The Quest Bible Study
DESCRIPTION:Join Bishop Woods on the Quest on Facebook Live as he expands on his sermons and teaches us how to go deeper in the Word. Tune in and invite a friend!
URL:https://thecovbrentwood.org/event/the-quest-bible-study-5/2026-06-23/
ATTACH;FMTTYPE=image/jpeg:https://thecovbrentwood.org/wp-content/uploads/2020/07/The-Quest-Bible-Study-event.jpg
END:VEVENT
BEGIN:VEVENT
DTSTART;TZID=America/Los_Angeles:20260623T190000
DTEND;TZID=America/Los_Angeles:20260623T203000
DTSTAMP:20260424T141311
CREATED:20260225T033015Z
LAST-MODIFIED:20260225T033015Z
UID:10007117-1782241200-1782246600@thecovbrentwood.org
SUMMARY:Digital Underground: Youth Bible Study
DESCRIPTION:Royals: Join us for “Digital Underground\,” our biweekly youth Bible study! Held via Zoom\, every other week\, this gathering is specifically designed for young people aged 12-17 who are eager to explore the depths of their faith in the digital age. \nThis is an exciting opportunity to engage in thought-provoking discussions\, interactive activities and inspiring teachings led by our youth pastor\, all from the comfort of your own home. Together\, we’ll explore how biblical principles can be applied to everyday situations\, online interactions\, social media challenges and more.
URL:https://thecovbrentwood.org/event/digital-underground-youth-bible-study-5/2026-06-23/
ATTACH;FMTTYPE=image/jpeg:https://thecovbrentwood.org/wp-content/uploads/2020/07/Digital-Underground-event.jpg
END:VEVENT
BEGIN:VEVENT
DTSTART;TZID=America/Los_Angeles:20260623T210000
DTEND;TZID=America/Los_Angeles:20260623T220000
DTSTAMP:20260424T141311
CREATED:20260113T180130Z
LAST-MODIFIED:20260113T180130Z
UID:10006916-1782248400-1782252000@thecovbrentwood.org
SUMMARY:Covenant Church Intercessory Prayer Call
DESCRIPTION:Get refreshed\, renewed and revived from whatever you’re going through in life at “The Well\,” our daily prayer call with the Intercessory Prayer Ministry. Held on weekdays at 5:30am and 9pm\, Monday through Friday\, and Saturdays at 6am. \nJoin by calling in to (562) 766-7703.
URL:https://thecovbrentwood.org/event/covenant-church-intercessory-prayer-call-11/2026-06-23/
ATTACH;FMTTYPE=image/jpeg:https://thecovbrentwood.org/wp-content/uploads/2024/01/prayer-call-the-well-event2.jpg
END:VEVENT
BEGIN:VEVENT
DTSTART;TZID=America/Los_Angeles:20260624T053000
DTEND;TZID=America/Los_Angeles:20260624T063000
DTSTAMP:20260424T141311
CREATED:20260113T175910Z
LAST-MODIFIED:20260113T175910Z
UID:10006669-1782279000-1782282600@thecovbrentwood.org
SUMMARY:Covenant Church Intercessory Prayer Call
DESCRIPTION:Get refreshed\, renewed and revived from whatever you’re going through in life at “The Well\,” our daily prayer call with the Intercessory Prayer Ministry. Held on weekdays at 5:30am and 9pm\, Monday through Friday\, and Saturdays at 6am. \nJoin by calling in to (562) 766-7703.
URL:https://thecovbrentwood.org/event/covenant-church-intercessory-prayer-call-10/2026-06-24/
ATTACH;FMTTYPE=image/jpeg:https://thecovbrentwood.org/wp-content/uploads/2024/01/prayer-call-the-well-event2.jpg
END:VEVENT
BEGIN:VEVENT
DTSTART;TZID=America/Los_Angeles:20260624T210000
DTEND;TZID=America/Los_Angeles:20260624T220000
DTSTAMP:20260424T141311
CREATED:20260113T180130Z
LAST-MODIFIED:20260113T180130Z
UID:10006917-1782334800-1782338400@thecovbrentwood.org
SUMMARY:Covenant Church Intercessory Prayer Call
DESCRIPTION:Get refreshed\, renewed and revived from whatever you’re going through in life at “The Well\,” our daily prayer call with the Intercessory Prayer Ministry. Held on weekdays at 5:30am and 9pm\, Monday through Friday\, and Saturdays at 6am. \nJoin by calling in to (562) 766-7703.
URL:https://thecovbrentwood.org/event/covenant-church-intercessory-prayer-call-11/2026-06-24/
ATTACH;FMTTYPE=image/jpeg:https://thecovbrentwood.org/wp-content/uploads/2024/01/prayer-call-the-well-event2.jpg
END:VEVENT
BEGIN:VEVENT
DTSTART;TZID=America/Los_Angeles:20260625T053000
DTEND;TZID=America/Los_Angeles:20260625T063000
DTSTAMP:20260424T141311
CREATED:20260113T175910Z
LAST-MODIFIED:20260113T175910Z
UID:10006670-1782365400-1782369000@thecovbrentwood.org
SUMMARY:Covenant Church Intercessory Prayer Call
DESCRIPTION:Get refreshed\, renewed and revived from whatever you’re going through in life at “The Well\,” our daily prayer call with the Intercessory Prayer Ministry. Held on weekdays at 5:30am and 9pm\, Monday through Friday\, and Saturdays at 6am. \nJoin by calling in to (562) 766-7703.
URL:https://thecovbrentwood.org/event/covenant-church-intercessory-prayer-call-10/2026-06-25/
ATTACH;FMTTYPE=image/jpeg:https://thecovbrentwood.org/wp-content/uploads/2024/01/prayer-call-the-well-event2.jpg
END:VEVENT
BEGIN:VEVENT
DTSTART;TZID=America/Los_Angeles:20260625T210000
DTEND;TZID=America/Los_Angeles:20260625T220000
DTSTAMP:20260424T141311
CREATED:20260113T180130Z
LAST-MODIFIED:20260113T180130Z
UID:10006918-1782421200-1782424800@thecovbrentwood.org
SUMMARY:Covenant Church Intercessory Prayer Call
DESCRIPTION:Get refreshed\, renewed and revived from whatever you’re going through in life at “The Well\,” our daily prayer call with the Intercessory Prayer Ministry. Held on weekdays at 5:30am and 9pm\, Monday through Friday\, and Saturdays at 6am. \nJoin by calling in to (562) 766-7703.
URL:https://thecovbrentwood.org/event/covenant-church-intercessory-prayer-call-11/2026-06-25/
ATTACH;FMTTYPE=image/jpeg:https://thecovbrentwood.org/wp-content/uploads/2024/01/prayer-call-the-well-event2.jpg
END:VEVENT
BEGIN:VEVENT
DTSTART;TZID=America/Los_Angeles:20260626T053000
DTEND;TZID=America/Los_Angeles:20260626T063000
DTSTAMP:20260424T141311
CREATED:20260113T175910Z
LAST-MODIFIED:20260113T175910Z
UID:10006671-1782451800-1782455400@thecovbrentwood.org
SUMMARY:Covenant Church Intercessory Prayer Call
DESCRIPTION:Get refreshed\, renewed and revived from whatever you’re going through in life at “The Well\,” our daily prayer call with the Intercessory Prayer Ministry. Held on weekdays at 5:30am and 9pm\, Monday through Friday\, and Saturdays at 6am. \nJoin by calling in to (562) 766-7703.
URL:https://thecovbrentwood.org/event/covenant-church-intercessory-prayer-call-10/2026-06-26/
ATTACH;FMTTYPE=image/jpeg:https://thecovbrentwood.org/wp-content/uploads/2024/01/prayer-call-the-well-event2.jpg
END:VEVENT
BEGIN:VEVENT
DTSTART;TZID=America/Los_Angeles:20260626T210000
DTEND;TZID=America/Los_Angeles:20260626T220000
DTSTAMP:20260424T141311
CREATED:20260113T180130Z
LAST-MODIFIED:20260113T180130Z
UID:10006919-1782507600-1782511200@thecovbrentwood.org
SUMMARY:Covenant Church Intercessory Prayer Call
DESCRIPTION:Get refreshed\, renewed and revived from whatever you’re going through in life at “The Well\,” our daily prayer call with the Intercessory Prayer Ministry. Held on weekdays at 5:30am and 9pm\, Monday through Friday\, and Saturdays at 6am. \nJoin by calling in to (562) 766-7703.
URL:https://thecovbrentwood.org/event/covenant-church-intercessory-prayer-call-11/2026-06-26/
ATTACH;FMTTYPE=image/jpeg:https://thecovbrentwood.org/wp-content/uploads/2024/01/prayer-call-the-well-event2.jpg
END:VEVENT
BEGIN:VEVENT
DTSTART;TZID=America/Los_Angeles:20260627T060000
DTEND;TZID=America/Los_Angeles:20260627T070000
DTSTAMP:20260424T141311
CREATED:20260113T180312Z
LAST-MODIFIED:20260113T180312Z
UID:10007072-1782540000-1782543600@thecovbrentwood.org
SUMMARY:Covenant Church Intercessory Prayer Call
DESCRIPTION:Get refreshed\, renewed and revived from whatever you’re going through in life at “The Well\,” our daily prayer call with the Intercessory Prayer Ministry. Held on weekdays at 5:30am and 9pm\, Monday through Friday\, and Saturdays at 6am. \nJoin by calling in to (562) 766-7703.
URL:https://thecovbrentwood.org/event/covenant-church-intercessory-prayer-call-12/2026-06-27/
ATTACH;FMTTYPE=image/jpeg:https://thecovbrentwood.org/wp-content/uploads/2024/01/prayer-call-the-well-event2.jpg
END:VEVENT
BEGIN:VEVENT
DTSTART;TZID=America/Los_Angeles:20260628T100000
DTEND;TZID=America/Los_Angeles:20260628T113000
DTSTAMP:20260424T141311
CREATED:20260113T175309Z
LAST-MODIFIED:20260113T175309Z
UID:10006475-1782640800-1782646200@thecovbrentwood.org
SUMMARY:Sunday Worship Service
DESCRIPTION:Need to hear a word from the Lord? Looking for an authentic worship experience? Seeking more opportunities to fellowship with others who want a deeper relationship with Jesus? This is where you’ll find it. Join us for church in-person at 10am or online at 12:30am. Each service is guaranteed to leave you saying\, “I got just what I wanted.”
URL:https://thecovbrentwood.org/event/sunday-worship-service-35/2026-06-28/
LOCATION:Covenant Church – Brentwood Campus\, 6830 Lone Tree Way\, Brentwood\, CA\, 94513\, United States
ATTACH;FMTTYPE=image/jpeg:https://thecovbrentwood.org/wp-content/uploads/2026/01/Covenant-Church-Events-2.jpg
END:VEVENT
BEGIN:VEVENT
DTSTART;TZID=America/Los_Angeles:20260629T053000
DTEND;TZID=America/Los_Angeles:20260629T063000
DTSTAMP:20260424T141311
CREATED:20260113T175910Z
LAST-MODIFIED:20260113T175910Z
UID:10006672-1782711000-1782714600@thecovbrentwood.org
SUMMARY:Covenant Church Intercessory Prayer Call
DESCRIPTION:Get refreshed\, renewed and revived from whatever you’re going through in life at “The Well\,” our daily prayer call with the Intercessory Prayer Ministry. Held on weekdays at 5:30am and 9pm\, Monday through Friday\, and Saturdays at 6am. \nJoin by calling in to (562) 766-7703.
URL:https://thecovbrentwood.org/event/covenant-church-intercessory-prayer-call-10/2026-06-29/
ATTACH;FMTTYPE=image/jpeg:https://thecovbrentwood.org/wp-content/uploads/2024/01/prayer-call-the-well-event2.jpg
END:VEVENT
BEGIN:VEVENT
DTSTART;TZID=America/Los_Angeles:20260629T210000
DTEND;TZID=America/Los_Angeles:20260629T220000
DTSTAMP:20260424T141311
CREATED:20260113T180130Z
LAST-MODIFIED:20260113T180130Z
UID:10006920-1782766800-1782770400@thecovbrentwood.org
SUMMARY:Covenant Church Intercessory Prayer Call
DESCRIPTION:Get refreshed\, renewed and revived from whatever you’re going through in life at “The Well\,” our daily prayer call with the Intercessory Prayer Ministry. Held on weekdays at 5:30am and 9pm\, Monday through Friday\, and Saturdays at 6am. \nJoin by calling in to (562) 766-7703.
URL:https://thecovbrentwood.org/event/covenant-church-intercessory-prayer-call-11/2026-06-29/
ATTACH;FMTTYPE=image/jpeg:https://thecovbrentwood.org/wp-content/uploads/2024/01/prayer-call-the-well-event2.jpg
END:VEVENT
BEGIN:VEVENT
DTSTART;TZID=America/Los_Angeles:20260630T053000
DTEND;TZID=America/Los_Angeles:20260630T063000
DTSTAMP:20260424T141311
CREATED:20260113T175910Z
LAST-MODIFIED:20260113T175910Z
UID:10006673-1782797400-1782801000@thecovbrentwood.org
SUMMARY:Covenant Church Intercessory Prayer Call
DESCRIPTION:Get refreshed\, renewed and revived from whatever you’re going through in life at “The Well\,” our daily prayer call with the Intercessory Prayer Ministry. Held on weekdays at 5:30am and 9pm\, Monday through Friday\, and Saturdays at 6am. \nJoin by calling in to (562) 766-7703.
URL:https://thecovbrentwood.org/event/covenant-church-intercessory-prayer-call-10/2026-06-30/
ATTACH;FMTTYPE=image/jpeg:https://thecovbrentwood.org/wp-content/uploads/2024/01/prayer-call-the-well-event2.jpg
END:VEVENT
BEGIN:VEVENT
DTSTART;TZID=America/Los_Angeles:20260630T190000
DTEND;TZID=America/Los_Angeles:20260630T203000
DTSTAMP:20260424T141311
CREATED:20260113T175628Z
LAST-MODIFIED:20260113T175628Z
UID:10006526-1782846000-1782851400@thecovbrentwood.org
SUMMARY:The Quest Bible Study
DESCRIPTION:Join Bishop Woods on the Quest on Facebook Live as he expands on his sermons and teaches us how to go deeper in the Word. Tune in and invite a friend!
URL:https://thecovbrentwood.org/event/the-quest-bible-study-5/2026-06-30/
ATTACH;FMTTYPE=image/jpeg:https://thecovbrentwood.org/wp-content/uploads/2020/07/The-Quest-Bible-Study-event.jpg
END:VEVENT
BEGIN:VEVENT
DTSTART;TZID=America/Los_Angeles:20260630T210000
DTEND;TZID=America/Los_Angeles:20260630T220000
DTSTAMP:20260424T141311
CREATED:20260113T180130Z
LAST-MODIFIED:20260113T180130Z
UID:10006921-1782853200-1782856800@thecovbrentwood.org
SUMMARY:Covenant Church Intercessory Prayer Call
DESCRIPTION:Get refreshed\, renewed and revived from whatever you’re going through in life at “The Well\,” our daily prayer call with the Intercessory Prayer Ministry. Held on weekdays at 5:30am and 9pm\, Monday through Friday\, and Saturdays at 6am. \nJoin by calling in to (562) 766-7703.
URL:https://thecovbrentwood.org/event/covenant-church-intercessory-prayer-call-11/2026-06-30/
ATTACH;FMTTYPE=image/jpeg:https://thecovbrentwood.org/wp-content/uploads/2024/01/prayer-call-the-well-event2.jpg
END:VEVENT
END:VCALENDAR